BEGIN:VCALENDAR
VERSION:2.0
PRODID:-//Les Chamois Volants - ECPv6.15.20//NONSGML v1.0//EN
CALSCALE:GREGORIAN
METHOD:PUBLISH
X-ORIGINAL-URL:https://www.chamoisvolants.fr
X-WR-CALDESC:Évènements pour Les Chamois Volants
REFRESH-INTERVAL;VALUE=DURATION:PT1H
X-Robots-Tag:noindex
X-PUBLISHED-TTL:PT1H
BEGIN:VTIMEZONE
TZID:Europe/Paris
BEGIN:DAYLIGHT
TZOFFSETFROM:+0100
TZOFFSETTO:+0200
TZNAME:CEST
DTSTART:20160327T010000
END:DAYLIGHT
BEGIN:STANDARD
TZOFFSETFROM:+0200
TZOFFSETTO:+0100
TZNAME:CET
DTSTART:20161030T010000
END:STANDARD
BEGIN:DAYLIGHT
TZOFFSETFROM:+0100
TZOFFSETTO:+0200
TZNAME:CEST
DTSTART:20170326T010000
END:DAYLIGHT
BEGIN:STANDARD
TZOFFSETFROM:+0200
TZOFFSETTO:+0100
TZNAME:CET
DTSTART:20171029T010000
END:STANDARD
BEGIN:DAYLIGHT
TZOFFSETFROM:+0100
TZOFFSETTO:+0200
TZNAME:CEST
DTSTART:20180325T010000
END:DAYLIGHT
BEGIN:STANDARD
TZOFFSETFROM:+0200
TZOFFSETTO:+0100
TZNAME:CET
DTSTART:20181028T010000
END:STANDARD
END:VTIMEZONE
BEGIN:VEVENT
DTSTART;VALUE=DATE:20170520
DTEND;VALUE=DATE:20170522
DTSTAMP:20260420T150145
CREATED:20170418T120239Z
LAST-MODIFIED:20170418T121923Z
UID:2170-1495238400-1495411199@www.chamoisvolants.fr
SUMMARY:Week-end Cross en école
DESCRIPTION:Stage avec un BE\, transport et récup inclus. \nPrévoir sandwich\, radio chargée\, contrôle parachute de secours. Voile habituelle. Autonomie déco et attéro. \n50 € par jour.
URL:https://www.chamoisvolants.fr/event/week-end-cross-en-ecole-3/
LOCATION:Les Passagers du Vent\, ZI Perroix\, Talloires-Montmin\, 74290
CATEGORIES:Formation,Stage Cross
END:VEVENT
BEGIN:VEVENT
DTSTART;TZID=Europe/Paris:20170513T080000
DTEND;TZID=Europe/Paris:20170513T120000
DTSTAMP:20260420T150145
CREATED:20170418T123018Z
LAST-MODIFIED:20170418T123720Z
UID:2185-1494662400-1494676800@www.chamoisvolants.fr
SUMMARY:Pente école
DESCRIPTION:Dans le cadre de sa démarche de sécurité et pour permettre à ceux qui le souhaitent de redémarrer la saison sur des bonnes bases\, le club organise des sessions de pente école. \nCes formations auront lieu samedi matin 13 et 20 mai. Elles seront encadrées par un moniteur BE des Passagers du Vent. \nLe club demande une participation de 10 € pour une demi-journée. \nCes formations sont ouvertes à tous les adhérents du club (y compris aux biplaceurs) à jour de leur cotisation qui veulent (re)travailler leur gonflage et décoller en sécurité. \nPour vous inscrire\, complétez le Doodle ci-dessous en indiquant un numéro de téléphone afin qu’on puisse vous recontacter. \nPrévoir Voile\, sellette\, casque\, bouteille d’eau\, crème solaire 😉
URL:https://www.chamoisvolants.fr/event/pente-ecole/
LOCATION:Les Passagers du Vent\, ZI Perroix\, Talloires-Montmin\, 74290
CATEGORIES:Formation,Pente école
END:VEVENT
END:VCALENDAR